<VRTDataset rasterXSize="44336" rasterYSize="40302">
  <SRS dataAxisToSRSAxisMapping="1,2">PROJCS["NAD83 / Texas North (ftUS)",GEOGCS["NAD83",DATUM["North_American_Datum_1983",SPHEROID["GRS 1980",6378137,298.257222101004,AUTHORITY["EPSG","7019"]],AUTHORITY["EPSG","6269"]],PRIMEM["Greenwich",0],UNIT["degree",0.0174532925199433,AUTHORITY["EPSG","9122"]],AUTHORITY["EPSG","4269"]],PROJECTION["Lambert_Conformal_Conic_2SP"],PARAMETER["latitude_of_origin",34],PARAMETER["central_meridian",-101.5],PARAMETER["standard_parallel_1",36.1833333333333],PARAMETER["standard_parallel_2",34.65],PARAMETER["false_easting",656166.667],PARAMETER["false_northing",3280833.333],UNIT["US survey foot",0.304800609601219,AUTHORITY["EPSG","9003"]],AXIS["Easting",EAST],AXIS["Northing",NORTH]]</SRS>
  <GeoTransform>  1.0875504581047373e+05,  3.2808133872979002e+00,  0.0000000000000000e+00,  3.9029767984221182e+06,  0.0000000000000000e+00, -3.2808133872979002e+00</GeoTransform>
  <VRTRasterBand dataType="Float32" band="1">
    <Metadata>
      <MDI key="STATISTICS_MAXIMUM">4616.6411132812</MDI>
      <MDI key="STATISTICS_MEAN">3975.4614214232</MDI>
      <MDI key="STATISTICS_MINIMUM">3405.2900390625</MDI>
      <MDI key="STATISTICS_STDDEV">274.25111139999</MDI>
    </Metadata>
    <NoDataValue>-9999</NoDataValue>
    <ColorInterp>Gray</ColorInterp>
    <ComplexSource>
      <SourceFilename relativeToVRT="1">Terrain2.MergedInputs.tif</SourceFilename>
      <SourceBand>1</SourceBand>
      <SourceProperties RasterXSize="44336" RasterYSize="40302" DataType="Float32" BlockXSize="256" BlockYSize="256" />
      <SrcRect xOff="0" yOff="0" xSize="44336" ySize="40302" />
      <DstRect xOff="0" yOff="0" xSize="44336" ySize="40302" />
      <NODATA>-9999</NODATA>
    </ComplexSource>
  </VRTRasterBand>
</VRTDataset>
