<VRTDataset rasterXSize="35510" rasterYSize="58614">
  <SRS dataAxisToSRSAxisMapping="1,2">PROJCS["NAD_1983_StatePlane_Texas_North_FIPS_4201_Feet",GEOGCS["NAD83",DATUM["North_American_Datum_1983",SPHEROID["GRS 1980",6378137,298.257222101004,AUTHORITY["EPSG","7019"]],AUTHORITY["EPSG","6269"]],PRIMEM["Greenwich",0],UNIT["degree",0.0174532925199433,AUTHORITY["EPSG","9122"]],AUTHORITY["EPSG","4269"]],PROJECTION["Lambert_Conformal_Conic_2SP"],PARAMETER["latitude_of_origin",34],PARAMETER["central_meridian",-101.5],PARAMETER["standard_parallel_1",34.65],PARAMETER["standard_parallel_2",36.1833333333333],PARAMETER["false_easting",656166.667],PARAMETER["false_northing",3280833.333],UNIT["US survey foot",0.304800609601219,AUTHORITY["EPSG","9003"]],AXIS["Easting",EAST],AXIS["Northing",NORTH]]</SRS>
  <GeoTransform>  2.6336009587350005e+05,  3.2808133872979006e+00,  0.0000000000000000e+00,  3.9055719218114708e+06,  0.0000000000000000e+00, -3.2808133872979037e+00</GeoTransform>
  <VRTRasterBand dataType="Float32" band="1">
    <NoDataValue>-3.402823e+38</NoDataValue>
    <ColorInterp>Gray</ColorInterp>
    <ComplexSource>
      <SourceFilename relativeToVRT="1">Terrain2.tif</SourceFilename>
      <SourceBand>1</SourceBand>
      <SourceProperties RasterXSize="35510" RasterYSize="58614" DataType="Float32" BlockXSize="128" BlockYSize="128" />
      <SrcRect xOff="0" yOff="0" xSize="35510" ySize="58614" />
      <DstRect xOff="0" yOff="0" xSize="35510" ySize="58614" />
      <NODATA>-3.402823e+38</NODATA>
    </ComplexSource>
  </VRTRasterBand>
</VRTDataset>
