<VRTDataset rasterXSize="46975" rasterYSize="48478">
  <SRS dataAxisToSRSAxisMapping="1,2">PROJCS["NAD83 / Texas North (ftUS)",GEOGCS["NAD83",DATUM["North_American_Datum_1983",SPHEROID["GRS 1980",6378137,298.257222101004,AUTHORITY["EPSG","7019"]],AUTHORITY["EPSG","6269"]],PRIMEM["Greenwich",0],UNIT["degree",0.0174532925199433,AUTHORITY["EPSG","9122"]],AUTHORITY["EPSG","4269"]],PROJECTION["Lambert_Conformal_Conic_2SP"],PARAMETER["latitude_of_origin",34],PARAMETER["central_meridian",-101.5],PARAMETER["standard_parallel_1",34.65],PARAMETER["standard_parallel_2",36.1833333333333],PARAMETER["false_easting",656166.666666667],PARAMETER["false_northing",3280833.33333333],UNIT["US survey foot",0.304800609601219,AUTHORITY["EPSG","9003"]],AXIS["Easting",EAST],AXIS["Northing",NORTH]]</SRS>
  <GeoTransform>  4.9971364676340669e+05,  3.2808333333333324e+00,  0.0000000000000000e+00,  3.9700688055146988e+06,  0.0000000000000000e+00, -3.2808333333333324e+00</GeoTransform>
  <VRTRasterBand dataType="Float32" band="1">
    <Metadata>
      <MDI key="STATISTICS_MAXIMUM">3738.765625</MDI>
      <MDI key="STATISTICS_MEAN">3097.7428089156</MDI>
      <MDI key="STATISTICS_MINIMUM">2812.8161621094</MDI>
      <MDI key="STATISTICS_STDDEV">216.7730243342</MDI>
    </Metadata>
    <NoDataValue>-9999</NoDataValue>
    <ColorInterp>Gray</ColorInterp>
    <ComplexSource>
      <SourceFilename relativeToVRT="1">WSE (Max).Terrain.1109010504B.tif</SourceFilename>
      <SourceBand>1</SourceBand>
      <SourceProperties RasterXSize="46975" RasterYSize="48478" DataType="Float32" BlockXSize="256" BlockYSize="256" />
      <SrcRect xOff="0" yOff="0" xSize="46975" ySize="48478" />
      <DstRect xOff="0" yOff="0" xSize="46975" ySize="48478" />
      <NODATA>-9999</NODATA>
    </ComplexSource>
  </VRTRasterBand>
</VRTDataset>
