<VRTDataset rasterXSize="36866" rasterYSize="60157">
  <SRS dataAxisToSRSAxisMapping="1,2">PROJCS["NAD83 / Texas North (ftUS)",GEOGCS["NAD83",DATUM["North_American_Datum_1983",SPHEROID["GRS 1980",6378137,298.257222101004,AUTHORITY["EPSG","7019"]],AUTHORITY["EPSG","6269"]],PRIMEM["Greenwich",0],UNIT["degree",0.0174532925199433,AUTHORITY["EPSG","9122"]],AUTHORITY["EPSG","4269"]],PROJECTION["Lambert_Conformal_Conic_2SP"],PARAMETER["latitude_of_origin",34],PARAMETER["central_meridian",-101.5],PARAMETER["standard_parallel_1",36.1833333333333],PARAMETER["standard_parallel_2",34.65],PARAMETER["false_easting",656166.667],PARAMETER["false_northing",3280833.333],UNIT["US survey foot",0.304800609601219,AUTHORITY["EPSG","9003"]],AXIS["Easting",EAST],AXIS["Northing",NORTH]]</SRS>
  <GeoTransform>  7.6908610686233954e+05,  3.2808158733454800e+00,  0.0000000000000000e+00,  4.0565318330198405e+06,  0.0000000000000000e+00, -3.2808158733454800e+00</GeoTransform>
  <VRTRasterBand dataType="Float32" band="1">
    <Metadata>
      <MDI key="STATISTICS_MAXIMUM">754.64331054688</MDI>
      <MDI key="STATISTICS_MEAN">2.214553665017</MDI>
      <MDI key="STATISTICS_MINIMUM">0.0009765625</MDI>
      <MDI key="STATISTICS_STDDEV">1.726748868648</MDI>
    </Metadata>
    <NoDataValue>-9999</NoDataValue>
    <ColorInterp>Gray</ColorInterp>
    <ComplexSource>
      <SourceFilename relativeToVRT="1">Depth (Max).Terrain.1109010604.tif</SourceFilename>
      <SourceBand>1</SourceBand>
      <SourceProperties RasterXSize="36866" RasterYSize="60157" DataType="Float32" BlockXSize="256" BlockYSize="256" />
      <SrcRect xOff="0" yOff="0" xSize="36866" ySize="60157" />
      <DstRect xOff="0" yOff="0" xSize="36866" ySize="60157" />
      <NODATA>-9999</NODATA>
    </ComplexSource>
  </VRTRasterBand>
</VRTDataset>
