<VRTDataset rasterXSize="50666" rasterYSize="40832">
  <SRS dataAxisToSRSAxisMapping="1,2">PROJCS["NAD83 / Texas North (ftUS)",GEOGCS["NAD83",DATUM["North_American_Datum_1983",SPHEROID["GRS 1980",6378137,298.257222101004,AUTHORITY["EPSG","7019"]],AUTHORITY["EPSG","6269"]],PRIMEM["Greenwich",0],UNIT["degree",0.0174532925199433,AUTHORITY["EPSG","9122"]],AUTHORITY["EPSG","4269"]],PROJECTION["Lambert_Conformal_Conic_2SP"],PARAMETER["latitude_of_origin",34],PARAMETER["central_meridian",-101.5],PARAMETER["standard_parallel_1",34.65],PARAMETER["standard_parallel_2",36.1833333333333],PARAMETER["false_easting",656166.666666667],PARAMETER["false_northing",3280833.33333333],UNIT["US survey foot",0.304800609601219,AUTHORITY["EPSG","9003"]],AXIS["Easting",EAST],AXIS["Northing",NORTH]]</SRS>
  <GeoTransform> -1.6193840998106432e+04,  3.2808333333333302e+00,  0.0000000000000000e+00,  4.1384598064024309e+06,  0.0000000000000000e+00, -3.2808333333333302e+00</GeoTransform>
  <VRTRasterBand dataType="Float32" band="1">
    <Metadata>
      <MDI key="STATISTICS_MAXIMUM">5910.9799804688</MDI>
      <MDI key="STATISTICS_MEAN">5130.9936225022</MDI>
      <MDI key="STATISTICS_MINIMUM">4493.2895507812</MDI>
      <MDI key="STATISTICS_STDDEV">318.91180340022</MDI>
    </Metadata>
    <NoDataValue>-9999</NoDataValue>
    <ColorInterp>Gray</ColorInterp>
    <ComplexSource>
      <SourceFilename relativeToVRT="1">Terrain.1109010202.tif</SourceFilename>
      <SourceBand>1</SourceBand>
      <SourceProperties RasterXSize="50666" RasterYSize="40832" DataType="Float32" BlockXSize="256" BlockYSize="256" />
      <SrcRect xOff="0" yOff="0" xSize="50666" ySize="40832" />
      <DstRect xOff="0" yOff="0" xSize="50666" ySize="40832" />
      <NODATA>-9999</NODATA>
    </ComplexSource>
  </VRTRasterBand>
</VRTDataset>
