<VRTDataset rasterXSize="68699" rasterYSize="44627">
  <SRS dataAxisToSRSAxisMapping="1,2">PROJCS["NAD83 / Texas North (ftUS)",GEOGCS["NAD83",DATUM["North_American_Datum_1983",SPHEROID["GRS 1980",6378137,298.257222101004,AUTHORITY["EPSG","7019"]],AUTHORITY["EPSG","6269"]],PRIMEM["Greenwich",0],UNIT["degree",0.0174532925199433,AUTHORITY["EPSG","9122"]],AUTHORITY["EPSG","4269"]],PROJECTION["Lambert_Conformal_Conic_2SP"],PARAMETER["latitude_of_origin",34],PARAMETER["central_meridian",-101.5],PARAMETER["standard_parallel_1",34.65],PARAMETER["standard_parallel_2",36.1833333333333],PARAMETER["false_easting",656166.666666667],PARAMETER["false_northing",3280833.33333333],UNIT["US survey foot",0.304800609601219,AUTHORITY["EPSG","9003"]],AXIS["Easting",EAST],AXIS["Northing",NORTH]]</SRS>
  <GeoTransform>  8.8848812009020429e+05,  3.2808158733454822e+00,  0.0000000000000000e+00,  4.0669418614526321e+06,  0.0000000000000000e+00, -3.2808158733454822e+00</GeoTransform>
  <VRTRasterBand dataType="Float32" band="1">
    <Metadata>
      <MDI key="STATISTICS_MAXIMUM">2912.0874023438</MDI>
      <MDI key="STATISTICS_MEAN">2430.5861852145</MDI>
      <MDI key="STATISTICS_MINIMUM">2166.8525390625</MDI>
      <MDI key="STATISTICS_STDDEV">153.14000477891</MDI>
    </Metadata>
    <NoDataValue>-9999</NoDataValue>
    <ColorInterp>Gray</ColorInterp>
    <ComplexSource>
      <SourceFilename relativeToVRT="1">WSE (Max).Terrain.1109010607.tif</SourceFilename>
      <SourceBand>1</SourceBand>
      <SourceProperties RasterXSize="68699" RasterYSize="44627" DataType="Float32" BlockXSize="256" BlockYSize="256" />
      <SrcRect xOff="0" yOff="0" xSize="68699" ySize="44627" />
      <DstRect xOff="0" yOff="0" xSize="68699" ySize="44627" />
      <NODATA>-9999</NODATA>
    </ComplexSource>
  </VRTRasterBand>
</VRTDataset>
