<VRTDataset rasterXSize="110585" rasterYSize="77546">
  <SRS dataAxisToSRSAxisMapping="1,2">PROJCS["NAD83(2011) / Texas North Central (ftUS)",GEOGCS["NAD83(2011)",DATUM["NAD83_National_Spatial_Reference_System_2011",SPHEROID["GRS 1980",6378137,298.257222101004,AUTHORITY["EPSG","7019"]],AUTHORITY["EPSG","1116"]],PRIMEM["Greenwich",0],UNIT["degree",0.0174532925199433,AUTHORITY["EPSG","9122"]]],PROJECTION["Lambert_Conformal_Conic_2SP"],PARAMETER["latitude_of_origin",31.6666666666667],PARAMETER["central_meridian",-98.5],PARAMETER["standard_parallel_1",32.1333333333333],PARAMETER["standard_parallel_2",33.9666666666667],PARAMETER["false_easting",1968500],PARAMETER["false_northing",6561666.66666667],UNIT["US survey foot",0.304800609601219,AUTHORITY["EPSG","9003"]],AXIS["Easting",EAST],AXIS["Northing",NORTH]]</SRS>
  <GeoTransform>  2.1366410000000000e+06,  3.0000000000000000e+00,  0.0000000000000000e+00,  7.0583110000000000e+06,  0.0000000000000000e+00, -3.0000000000000000e+00</GeoTransform>
  <VRTRasterBand dataType="Float32" band="1">
    <Metadata>
      <MDI key="STATISTICS_MAXIMUM">1366.46875</MDI>
      <MDI key="STATISTICS_MEAN">766.17083019922</MDI>
      <MDI key="STATISTICS_MINIMUM">355.5</MDI>
      <MDI key="STATISTICS_STDDEV">203.05196512477</MDI>
    </Metadata>
    <NoDataValue>-9999</NoDataValue>
    <ColorInterp>Gray</ColorInterp>
    <ComplexSource>
      <SourceFilename relativeToVRT="1">Terrain.lwft_mos_3ft.tif</SourceFilename>
      <SourceBand>1</SourceBand>
      <SourceProperties RasterXSize="110585" RasterYSize="77546" DataType="Float32" BlockXSize="256" BlockYSize="256" />
      <SrcRect xOff="0" yOff="0" xSize="110585" ySize="77546" />
      <DstRect xOff="0" yOff="0" xSize="110585" ySize="77546" />
      <NODATA>-9999</NODATA>
    </ComplexSource>
  </VRTRasterBand>
</VRTDataset>
