<VRTDataset rasterXSize="109912" rasterYSize="95276">
  <SRS dataAxisToSRSAxisMapping="1,2">PROJCS["NAD83 / Texas North Central (ftUS)",GEOGCS["NAD83",DATUM["North_American_Datum_1983",SPHEROID["GRS 1980",6378137,298.257222101004,AUTHORITY["EPSG","7019"]],AUTHORITY["EPSG","6269"]],PRIMEM["Greenwich",0],UNIT["degree",0.0174532925199433,AUTHORITY["EPSG","9122"]],AUTHORITY["EPSG","4269"]],PROJECTION["Lambert_Conformal_Conic_2SP"],PARAMETER["latitude_of_origin",31.6666666666667],PARAMETER["central_meridian",-98.5],PARAMETER["standard_parallel_1",32.1333333333333],PARAMETER["standard_parallel_2",33.9666666666667],PARAMETER["false_easting",1968500],PARAMETER["false_northing",6561666.66666667],UNIT["US survey foot",0.304800609601219,AUTHORITY["EPSG","9003"]],AXIS["Easting",EAST],AXIS["Northing",NORTH]]</SRS>
  <GeoTransform>  6.9092569475472742e+05,  3.2808333333333293e+00,  0.0000000000000000e+00,  7.3279384022337431e+06,  0.0000000000000000e+00, -3.2808333333333293e+00</GeoTransform>
  <VRTRasterBand dataType="Float32" band="1">
    <Metadata>
      <MDI key="STATISTICS_MAXIMUM">3741.75</MDI>
      <MDI key="STATISTICS_MEAN">3249.0109784724</MDI>
      <MDI key="STATISTICS_MINIMUM">2542.71875</MDI>
      <MDI key="STATISTICS_STDDEV">243.53954460922</MDI>
    </Metadata>
    <NoDataValue>-9999</NoDataValue>
    <ColorInterp>Gray</ColorInterp>
    <ComplexSource>
      <SourceFilename relativeToVRT="1">Terrain.Terrain.DMF1_SP_FT_10K.tif</SourceFilename>
      <SourceBand>1</SourceBand>
      <SourceProperties RasterXSize="109912" RasterYSize="95276" DataType="Float32" BlockXSize="256" BlockYSize="256" />
      <SrcRect xOff="0" yOff="0" xSize="109912" ySize="95276" />
      <DstRect xOff="0" yOff="0" xSize="109912" ySize="95276" />
      <NODATA>-9999</NODATA>
    </ComplexSource>
  </VRTRasterBand>
</VRTDataset>
