<VRTDataset rasterXSize="70700" rasterYSize="52047">
  <SRS dataAxisToSRSAxisMapping="1,2">PROJCS["NAD83 / Texas Central (ftUS)",GEOGCS["NAD83",DATUM["North_American_Datum_1983",SPHEROID["GRS 1980",6378137,298.257222101004,AUTHORITY["EPSG","7019"]],AUTHORITY["EPSG","6269"]],PRIMEM["Greenwich",0],UNIT["degree",0.0174532925199433,AUTHORITY["EPSG","9122"]],AUTHORITY["EPSG","4269"]],PROJECTION["Lambert_Conformal_Conic_2SP"],PARAMETER["latitude_of_origin",29.6666666666667],PARAMETER["central_meridian",-100.333333333333],PARAMETER["standard_parallel_1",30.1166666666667],PARAMETER["standard_parallel_2",31.8833333333333],PARAMETER["false_easting",2296583.33333333],PARAMETER["false_northing",9842500],UNIT["US survey foot",0.304800609601219,AUTHORITY["EPSG","9003"]],AXIS["Easting",EAST],AXIS["Northing",NORTH]]</SRS>
  <GeoTransform>  1.8877347458850178e+06,  3.2808073381988971e+00,  0.0000000000000000e+00,  1.0757399574334068e+07,  0.0000000000000000e+00, -3.2808073381988971e+00</GeoTransform>
  <VRTRasterBand dataType="Float32" band="1">
    <Metadata>
      <MDI key="STATISTICS_MAXIMUM">2838.25</MDI>
      <MDI key="STATISTICS_MEAN">2615.5027725556</MDI>
      <MDI key="STATISTICS_MINIMUM">2248.21875</MDI>
      <MDI key="STATISTICS_STDDEV">102.33471208473</MDI>
    </Metadata>
    <NoDataValue>-9999</NoDataValue>
    <ColorInterp>Gray</ColorInterp>
    <ComplexSource>
      <SourceFilename relativeToVRT="1">Terrain.N_Concho_WA3.tif</SourceFilename>
      <SourceBand>1</SourceBand>
      <SourceProperties RasterXSize="70700" RasterYSize="52047" DataType="Float32" BlockXSize="256" BlockYSize="256" />
      <SrcRect xOff="0" yOff="0" xSize="70700" ySize="52047" />
      <DstRect xOff="0" yOff="0" xSize="70700" ySize="52047" />
      <NODATA>-9999</NODATA>
    </ComplexSource>
  </VRTRasterBand>
</VRTDataset>
