<VRTDataset rasterXSize="62625" rasterYSize="73439">
  <SRS dataAxisToSRSAxisMapping="1,2">PROJCS["NAD83 / Texas Central (ftUS)",GEOGCS["NAD83",DATUM["North_American_Datum_1983",SPHEROID["GRS 1980",6378137,298.257222101004,AUTHORITY["EPSG","7019"]],AUTHORITY["EPSG","6269"]],PRIMEM["Greenwich",0],UNIT["degree",0.0174532925199433,AUTHORITY["EPSG","9122"]],AUTHORITY["EPSG","4269"]],PROJECTION["Lambert_Conformal_Conic_2SP"],PARAMETER["latitude_of_origin",29.6666666666667],PARAMETER["central_meridian",-100.333333333333],PARAMETER["standard_parallel_1",30.1166666666667],PARAMETER["standard_parallel_2",31.8833333333333],PARAMETER["false_easting",2296583.33333333],PARAMETER["false_northing",9842500],UNIT["US survey foot",0.304800609601219,AUTHORITY["EPSG","9003"]],AXIS["Easting",EAST],AXIS["Northing",NORTH]]</SRS>
  <GeoTransform>  2.2968567951323688e+06,  3.2808077451929361e+00,  0.0000000000000000e+00,  1.0575348422246097e+07,  0.0000000000000000e+00, -3.2808077451929361e+00</GeoTransform>
  <VRTRasterBand dataType="Float32" band="1">
    <Metadata>
      <MDI key="STATISTICS_MAXIMUM">2492.68359375</MDI>
      <MDI key="STATISTICS_MEAN">1901.5517987729</MDI>
      <MDI key="STATISTICS_MINIMUM">1512.0538330078</MDI>
      <MDI key="STATISTICS_STDDEV">247.3721583347</MDI>
    </Metadata>
    <NoDataValue>-9999</NoDataValue>
    <ColorInterp>Gray</ColorInterp>
    <ComplexSource>
      <SourceFilename relativeToVRT="1">Terrain.Concho_WA1.tif</SourceFilename>
      <SourceBand>1</SourceBand>
      <SourceProperties RasterXSize="62625" RasterYSize="73439" DataType="Float32" BlockXSize="256" BlockYSize="256" />
      <SrcRect xOff="0" yOff="0" xSize="62625" ySize="73439" />
      <DstRect xOff="0" yOff="0" xSize="62625" ySize="73439" />
      <NODATA>-9999</NODATA>
    </ComplexSource>
  </VRTRasterBand>
</VRTDataset>
