<VRTDataset rasterXSize="51275" rasterYSize="68555">
  <SRS dataAxisToSRSAxisMapping="1,2">PROJCS["NAD83 / Texas Central (ftUS)",GEOGCS["NAD83",DATUM["North_American_Datum_1983",SPHEROID["GRS 1980",6378137,298.257222101004,AUTHORITY["EPSG","7019"]],AUTHORITY["EPSG","6269"]],PRIMEM["Greenwich",0],UNIT["degree",0.0174532925199433,AUTHORITY["EPSG","9122"]],AUTHORITY["EPSG","4269"]],PROJECTION["Lambert_Conformal_Conic_2SP"],PARAMETER["latitude_of_origin",29.6666666666667],PARAMETER["central_meridian",-100.333333333333],PARAMETER["standard_parallel_1",30.1166666666667],PARAMETER["standard_parallel_2",31.8833333333333],PARAMETER["false_easting",2296583.33333333],PARAMETER["false_northing",9842500],UNIT["US survey foot",0.304800609601219,AUTHORITY["EPSG","9003"]],AXIS["Easting",EAST],AXIS["Northing",NORTH]]</SRS>
  <GeoTransform>  2.2377234957858189e+06,  3.2807614101509839e+00,  0.0000000000000000e+00,  1.0600464243460970e+07,  0.0000000000000000e+00, -3.2807614101509839e+00</GeoTransform>
  <VRTRasterBand dataType="Float32" band="1">
    <Metadata>
      <MDI key="STATISTICS_MAXIMUM">2492.6875</MDI>
      <MDI key="STATISTICS_MEAN">1964.3040928882</MDI>
      <MDI key="STATISTICS_MINIMUM">1613.8125</MDI>
      <MDI key="STATISTICS_STDDEV">184.74065462334</MDI>
    </Metadata>
    <NoDataValue>-9999</NoDataValue>
    <ColorInterp>Gray</ColorInterp>
    <ComplexSource>
      <SourceFilename relativeToVRT="1">Terrain (1).Terrain.Concho_WA2_v2_corrected.tif</SourceFilename>
      <SourceBand>1</SourceBand>
      <SourceProperties RasterXSize="51275" RasterYSize="68555" DataType="Float32" BlockXSize="256" BlockYSize="256" />
      <SrcRect xOff="0" yOff="0" xSize="51275" ySize="68555" />
      <DstRect xOff="0" yOff="0" xSize="51275" ySize="68555" />
      <NODATA>-9999</NODATA>
    </ComplexSource>
  </VRTRasterBand>
</VRTDataset>
