<VRTDataset rasterXSize="43959" rasterYSize="89839">
  <SRS dataAxisToSRSAxisMapping="1,2">PROJCS["NAD83 / Texas South Central (ftUS)",GEOGCS["NAD83",DATUM["North_American_Datum_1983",SPHEROID["GRS 1980",6378137,298.257222101004,AUTHORITY["EPSG","7019"]],AUTHORITY["EPSG","6269"]],PRIMEM["Greenwich",0],UNIT["degree",0.0174532925199433,AUTHORITY["EPSG","9122"]],AUTHORITY["EPSG","4269"]],PROJECTION["Lambert_Conformal_Conic_2SP"],PARAMETER["latitude_of_origin",27.8333333333333],PARAMETER["central_meridian",-99],PARAMETER["standard_parallel_1",28.3833333333333],PARAMETER["standard_parallel_2",30.2833333333333],PARAMETER["false_easting",1968500],PARAMETER["false_northing",13123333.3333333],UNIT["US survey foot",0.304800609601219,AUTHORITY["EPSG","9003"]],AXIS["Easting",EAST],AXIS["Northing",NORTH]]</SRS>
  <GeoTransform>  1.5648877935963969e+06,  3.2808333333333302e+00,  0.0000000000000000e+00,  1.3947683905143909e+07,  0.0000000000000000e+00, -3.2808333333333302e+00</GeoTransform>
  <VRTRasterBand dataType="Float32" band="1">
    <NoDataValue>-9999</NoDataValue>
    <ColorInterp>Gray</ColorInterp>
    <ComplexSource>
      <SourceFilename relativeToVRT="1">Terrain_12110101_hc_12142021.Resampled.tif</SourceFilename>
      <SourceBand>1</SourceBand>
      <SourceProperties RasterXSize="43959" RasterYSize="89839" DataType="Float32" BlockXSize="256" BlockYSize="256" />
      <SrcRect xOff="0" yOff="0" xSize="43959" ySize="89839" />
      <DstRect xOff="0" yOff="0" xSize="43959" ySize="89839" />
      <NODATA>-9999</NODATA>
    </ComplexSource>
  </VRTRasterBand>
</VRTDataset>
