<VRTDataset rasterXSize="37776" rasterYSize="23139">
  <SRS dataAxisToSRSAxisMapping="1,2">PROJCS["NAD83 / Texas South Central (ftUS)",GEOGCS["NAD83",DATUM["North_American_Datum_1983",SPHEROID["GRS 1980",6378137,298.257222101004,AUTHORITY["EPSG","7019"]],AUTHORITY["EPSG","6269"]],PRIMEM["Greenwich",0],UNIT["degree",0.0174532925199433,AUTHORITY["EPSG","9122"]],AUTHORITY["EPSG","4269"]],PROJECTION["Lambert_Conformal_Conic_2SP"],PARAMETER["latitude_of_origin",27.8333333333333],PARAMETER["central_meridian",-99],PARAMETER["standard_parallel_1",28.3833333333333],PARAMETER["standard_parallel_2",30.2833333333333],PARAMETER["false_easting",1968500],PARAMETER["false_northing",13123333.3333333],UNIT["US survey foot",0.304800609601219,AUTHORITY["EPSG","9003"]],AXIS["Easting",EAST],AXIS["Northing",NORTH]]</SRS>
  <GeoTransform>  1.5859743635964179e+06,  3.2807986993507487e+00,  0.0000000000000000e+00,  1.3948158971810583e+07,  0.0000000000000000e+00, -3.2807986993507487e+00</GeoTransform>
  <VRTRasterBand dataType="Float32" band="1">
    <Metadata>
      <MDI key="STATISTICS_MAXIMUM">2420.75</MDI>
      <MDI key="STATISTICS_MEAN">2209.1394539494</MDI>
      <MDI key="STATISTICS_MINIMUM">1720.21875</MDI>
      <MDI key="STATISTICS_STDDEV">130.71566806771</MDI>
    </Metadata>
    <NoDataValue>-9999</NoDataValue>
    <ColorInterp>Gray</ColorInterp>
    <ComplexSource>
      <SourceFilename relativeToVRT="1">Terrain_1211010101_HC.Terrain_ 1211010101_submittal_clip.tif</SourceFilename>
      <SourceBand>1</SourceBand>
      <SourceProperties RasterXSize="37776" RasterYSize="23139" DataType="Float32" BlockXSize="256" BlockYSize="256" />
      <SrcRect xOff="0" yOff="0" xSize="37776" ySize="23139" />
      <DstRect xOff="0" yOff="0" xSize="37776" ySize="23139" />
      <NODATA>-9999</NODATA>
    </ComplexSource>
  </VRTRasterBand>
</VRTDataset>
