<VRTDataset rasterXSize="24398" rasterYSize="35455">
  <SRS dataAxisToSRSAxisMapping="1,2">PROJCS["NAD83 / Texas South Central (ftUS)",GEOGCS["NAD83",DATUM["North_American_Datum_1983",SPHEROID["GRS 1980",6378137,298.257222101004,AUTHORITY["EPSG","7019"]],AUTHORITY["EPSG","6269"]],PRIMEM["Greenwich",0],UNIT["degree",0.0174532925199433,AUTHORITY["EPSG","9122"]],AUTHORITY["EPSG","4269"]],PROJECTION["Lambert_Conformal_Conic_2SP"],PARAMETER["latitude_of_origin",27.8333333333333],PARAMETER["central_meridian",-99],PARAMETER["standard_parallel_1",28.3833333333333],PARAMETER["standard_parallel_2",30.2833333333333],PARAMETER["false_easting",1968500],PARAMETER["false_northing",13123333.3333333],UNIT["US survey foot",0.304800609601219,AUTHORITY["EPSG","9003"]],AXIS["Easting",EAST],AXIS["Northing",NORTH]]</SRS>
  <GeoTransform>  1.5639323095317159e+06,  3.2808127951136274e+00,  0.0000000000000000e+00,  1.3899717467643922e+07,  0.0000000000000000e+00, -3.2808127951136274e+00</GeoTransform>
  <VRTRasterBand dataType="Float32" band="1">
    <Metadata>
      <MDI key="STATISTICS_MAXIMUM">2401.375</MDI>
      <MDI key="STATISTICS_MEAN">1988.1049636068</MDI>
      <MDI key="STATISTICS_MINIMUM">1423.8125</MDI>
      <MDI key="STATISTICS_STDDEV">238.89663512166</MDI>
    </Metadata>
    <NoDataValue>-9999</NoDataValue>
    <ColorInterp>Gray</ColorInterp>
    <ComplexSource>
      <SourceFilename relativeToVRT="1">Terrain.Terrain_ 1211010102_submittal_clip.tif</SourceFilename>
      <SourceBand>1</SourceBand>
      <SourceProperties RasterXSize="24398" RasterYSize="35455" DataType="Float32" BlockXSize="256" BlockYSize="256" />
      <SrcRect xOff="0" yOff="0" xSize="24398" ySize="35455" />
      <DstRect xOff="0" yOff="0" xSize="24398" ySize="35455" />
      <NODATA>-9999</NODATA>
    </ComplexSource>
  </VRTRasterBand>
</VRTDataset>
